BEGIN:VCALENDAR
VERSION:2.0
PRODID:-//Tukios.com/
BEGIN:VEVENT
UID:1c6c08e2-cee8-47eb-baea-0c2937a1ec6e@www.faupelfuneralhome.com
DTSTAMP:20260422T155222Z
DTSTART:20260505T150000Z
DTEND:20260505T160000Z
SUMMARY:Memorial Service
DESCRIPTION:
URL:https://www.faupelfuneralhome.com/obituaries/roland-chip-waller
LOCATION:Trinity Presbyterian Church of Seven Springs 4651 Little Rd  New 
	Port Richey FL 34655
GEO:28.2266687;-82.6678315
END:VEVENT
END:VCALENDAR