BEGIN:VCALENDAR
VERSION:2.0
PRODID:-//Tukios.com/
BEGIN:VEVENT
UID:26e5e1c7-3159-46f1-867a-ecc0591f9194@www.faupelfuneralhome.com
DTSTAMP:20260422T155623Z
DTSTART:20260505T140000Z
DTEND:20260505T150000Z
SUMMARY:Visitation
DESCRIPTION:
URL:https://www.faupelfuneralhome.com/obituaries/roland-chip-waller
LOCATION:Trinity Presbyterian Church of Seven Springs 4651 Little Rd  New 
	Port Richey FL 34655
GEO:28.2266687;-82.6678315
END:VEVENT
END:VCALENDAR