BEGIN:VCALENDAR
VERSION:2.0
PRODID:-//Tukios.com/
BEGIN:VEVENT
UID:93f94ec5-45da-4c34-8214-dea02b0c660c@www.faupelfuneralhome.com
DTSTAMP:20260422T223808Z
DTSTART:20260501T153000Z
DTEND:20260501T163000Z
SUMMARY:Funeral Service
DESCRIPTION:
URL:https://www.faupelfuneralhome.com/obituaries/marie-bruno
LOCATION:St. James the Apostle Roman Catholic Church 8400 Monarch Drive  
	Port Richey FL 34668
GEO:28.2967785;-82.6765256
END:VEVENT
END:VCALENDAR