BEGIN:VCALENDAR
VERSION:2.0
PRODID:-//Tukios.com/
BEGIN:VEVENT
UID:8cdd3091-025e-4cfa-94c5-e99a74a60f06@www.faupelfuneralhome.com
DTSTAMP:20260422T223731Z
DTSTART:20260501T133000Z
DTEND:20260501T150000Z
SUMMARY:Visitation
DESCRIPTION:
URL:https://www.faupelfuneralhome.com/obituaries/marie-bruno
LOCATION:Faupel Funeral Home 7524 Ridge Rd  Port Richey FL 34668
GEO:28.2798453;-82.6897189
END:VEVENT
END:VCALENDAR